Package: maaslin3 Version: 1.0.2 Command: /home/biocbuild/bbs-3.21-bioc/R/bin/R CMD INSTALL maaslin3 StartedAt: 2025-10-15 15:29:22 -0400 (Wed, 15 Oct 2025) EndedAt: 2025-10-15 15:29:53 -0400 (Wed, 15 Oct 2025) EllapsedTime: 30.8 seconds RetCode: 0 Status: OK