Package: maaslin3 Version: 1.0.2 Command: /home/biocbuild/R/R/bin/R CMD INSTALL maaslin3 StartedAt: 2025-10-13 20:44:54 -0000 (Mon, 13 Oct 2025) EndedAt: 2025-10-13 20:45:39 -0000 (Mon, 13 Oct 2025) EllapsedTime: 45.1 seconds RetCode: 0 Status: OK