Package: maaslin3 Version: 1.0.2 Maintainer: William Nickols MaintainerEmail: willnickols at g.harvard.edu git_url: https://git.bioconductor.org/packages/maaslin3 git_branch: RELEASE_3_21 git_last_commit: d86be18 git_last_commit_date: 2025-10-12 11:15:12 -0400 (Sun, 12 Oct 2025)