Package: maSigPro Version: 1.80.0 Command: rm -rf maSigPro.buildbin-libdir && mkdir maSigPro.buildbin-libdir && /Users/biocbuild/BBS/utils/build-universal.sh maSigPro_1.80.0.tar.gz /Library/Frameworks/R.framework/Resources/bin/R maSigPro.buildbin-libdir StartedAt: 2025-04-22 00:52:59 -0400 (Tue, 22 Apr 2025) EndedAt: 2025-04-22 00:53:11 -0400 (Tue, 22 Apr 2025) EllapsedTime: 11.6 seconds RetCode: 0 Status: OK PackageFile: maSigPro_1.80.0.tgz PackageFileSize: 1.682 MiB