Package: mCSEA Version: 1.28.0 Command: /Library/Frameworks/R.framework/Resources/bin/R CMD INSTALL mCSEA StartedAt: 2025-10-13 16:47:48 -0400 (Mon, 13 Oct 2025) EndedAt: 2025-10-13 16:49:10 -0400 (Mon, 13 Oct 2025) EllapsedTime: 81.6 seconds RetCode: 0 Status: OK