Package: mBPCR Version: 1.62.0 Command: /home/biocbuild/bbs-3.21-bioc/R/bin/R CMD INSTALL mBPCR StartedAt: 2025-10-15 15:19:55 -0400 (Wed, 15 Oct 2025) EndedAt: 2025-10-15 15:20:25 -0400 (Wed, 15 Oct 2025) EllapsedTime: 30.1 seconds RetCode: 0 Status: OK