Package: mBPCR Version: 1.62.0 Command: rm -rf mBPCR.buildbin-libdir && mkdir mBPCR.buildbin-libdir && /Users/biocbuild/BBS/utils/build-universal.sh mBPCR_1.62.0.tar.gz /Library/Frameworks/R.framework/Resources/bin/R mBPCR.buildbin-libdir StartedAt: 2025-10-14 13:56:11 -0400 (Tue, 14 Oct 2025) EndedAt: 2025-10-14 13:58:05 -0400 (Tue, 14 Oct 2025) EllapsedTime: 114.1 seconds RetCode: 0 Status: OK PackageFile: mBPCR_1.62.0.tgz PackageFileSize: 915 KiB