Package: mBPCR Version: 1.62.0 Command: rm -rf mBPCR.buildbin-libdir && mkdir mBPCR.buildbin-libdir && /Users/biocbuild/BBS/utils/build-universal.sh mBPCR_1.62.0.tar.gz /Library/Frameworks/R.framework/Resources/bin/R mBPCR.buildbin-libdir StartedAt: 2025-04-22 00:53:14 -0400 (Tue, 22 Apr 2025) EndedAt: 2025-04-22 00:54:03 -0400 (Tue, 22 Apr 2025) EllapsedTime: 48.7 seconds RetCode: 0 Status: OK PackageFile: mBPCR_1.62.0.tgz PackageFileSize: 915 KiB