Package: mBPCR Version: 1.62.0 Command: /Library/Frameworks/R.framework/Resources/bin/R CMD check --install=check:mBPCR.install-out.txt --library=/Library/Frameworks/R.framework/Resources/library --no-vignettes --timings mBPCR_1.62.0.tar.gz StartedAt: 2025-10-15 02:32:11 -0400 (Wed, 15 Oct 2025) EndedAt: 2025-10-15 02:36:31 -0400 (Wed, 15 Oct 2025) EllapsedTime: 260.0 seconds RetCode: 0 Status: OK CheckDir: mBPCR.Rcheck Warnings: 0