Package: lute Version: 1.4.0 Command: E:\biocbuild\bbs-3.21-bioc\R\bin\R.exe CMD INSTALL lute StartedAt: 2025-08-14 16:17:36 -0400 (Thu, 14 Aug 2025) EndedAt: 2025-08-14 16:18:33 -0400 (Thu, 14 Aug 2025) EllapsedTime: 57.0 seconds RetCode: 0 Status: OK