Package: lute Version: 1.4.0 Command: chmod a+r lute -R && E:\biocbuild\bbs-3.21-bioc\R\bin\R.exe CMD build --keep-empty-dirs --no-resave-data lute StartedAt: 2025-08-14 20:05:34 -0400 (Thu, 14 Aug 2025) EndedAt: 2025-08-14 20:07:00 -0400 (Thu, 14 Aug 2025) EllapsedTime: 85.2 seconds RetCode: 0 Status: OK PackageFile: lute_1.4.0.tar.gz PackageFileSize: 2.178 MiB