Package: lute Version: 1.4.0 Command: rm -rf lute.buildbin-libdir && mkdir lute.buildbin-libdir && E:\biocbuild\bbs-3.21-bioc\R\bin\R.exe CMD INSTALL --build --library=lute.buildbin-libdir lute_1.4.0.tar.gz StartedAt: 2025-08-15 09:36:47 -0400 (Fri, 15 Aug 2025) EndedAt: 2025-08-15 09:38:01 -0400 (Fri, 15 Aug 2025) EllapsedTime: 73.9 seconds RetCode: 0 Status: OK PackageFile: lute_1.4.0.zip PackageFileSize: 2.042 MiB