Package: lute Version: 1.4.0 Command: /home/biocbuild/bbs-3.21-bioc/R/bin/R CMD build --keep-empty-dirs --no-resave-data lute StartedAt: 2025-10-15 18:14:55 -0400 (Wed, 15 Oct 2025) EndedAt: 2025-10-15 18:15:42 -0400 (Wed, 15 Oct 2025) EllapsedTime: 47.0 seconds RetCode: 0 Status: OK PackageFile: lute_1.4.0.tar.gz PackageFileSize: 2.278 MiB