Package: lute Version: 1.4.0 Command: /Library/Frameworks/R.framework/Resources/bin/R CMD INSTALL lute StartedAt: 2025-10-13 16:43:25 -0400 (Mon, 13 Oct 2025) EndedAt: 2025-10-13 16:44:33 -0400 (Mon, 13 Oct 2025) EllapsedTime: 67.6 seconds RetCode: 0 Status: OK