Package: lute Version: 1.4.0 Command: /Library/Frameworks/R.framework/Resources/bin/R CMD build --keep-empty-dirs --no-resave-data lute StartedAt: 2025-10-13 20:08:35 -0400 (Mon, 13 Oct 2025) EndedAt: 2025-10-13 20:10:26 -0400 (Mon, 13 Oct 2025) EllapsedTime: 111.3 seconds RetCode: 0 Status: OK PackageFile: lute_1.4.0.tar.gz PackageFileSize: 2.236 MiB