Package: lute Version: 1.4.0 Command: /home/biocbuild/R/R/bin/R CMD INSTALL lute StartedAt: 2025-10-13 21:16:02 -0000 (Mon, 13 Oct 2025) EndedAt: 2025-10-13 21:16:45 -0000 (Mon, 13 Oct 2025) EllapsedTime: 43.1 seconds RetCode: 0 Status: OK