Package: lute Version: 1.4.0 Command: /Library/Frameworks/R.framework/Resources/bin/R CMD INSTALL lute StartedAt: 2025-10-13 18:15:48 -0400 (Mon, 13 Oct 2025) EndedAt: 2025-10-13 18:16:24 -0400 (Mon, 13 Oct 2025) EllapsedTime: 36.1 seconds RetCode: 0 Status: OK