Package: lute Version: 1.4.0 Command: /Library/Frameworks/R.framework/Resources/bin/R CMD check --install=check:lute.install-out.txt --library=/Library/Frameworks/R.framework/Resources/library --no-vignettes --timings lute_1.4.0.tar.gz StartedAt: 2025-10-15 02:05:57 -0400 (Wed, 15 Oct 2025) EndedAt: 2025-10-15 02:06:01 -0400 (Wed, 15 Oct 2025) EllapsedTime: 3.4 seconds RetCode: 1 Status: ERROR CheckDir: lute.Rcheck Warnings: NA