Package: lute Version: 1.4.0 Command: /Library/Frameworks/R.framework/Resources/bin/R CMD build --keep-empty-dirs --no-resave-data lute StartedAt: 2025-10-14 03:13:52 -0400 (Tue, 14 Oct 2025) EndedAt: 2025-10-14 03:14:56 -0400 (Tue, 14 Oct 2025) EllapsedTime: 63.9 seconds RetCode: 0 Status: OK PackageFile: lute_1.4.0.tar.gz PackageFileSize: 2.237 MiB