Package: lumi Version: 2.60.0 Command: E:\biocbuild\bbs-3.21-bioc\R\bin\R.exe CMD check --no-multiarch --install=check:lumi.install-out.txt --library=E:\biocbuild\bbs-3.21-bioc\R\library --no-vignettes --timings lumi_2.60.0.tar.gz StartedAt: 2025-08-15 03:40:10 -0400 (Fri, 15 Aug 2025) EndedAt: 2025-08-15 03:49:11 -0400 (Fri, 15 Aug 2025) EllapsedTime: 540.9 seconds RetCode: 0 Status: WARNINGS CheckDir: lumi.Rcheck Warnings: 3