Package: lumi Version: 2.60.0 Command: chmod a+r lumi -R && E:\biocbuild\bbs-3.21-bioc\R\bin\R.exe CMD build --keep-empty-dirs --no-resave-data lumi StartedAt: 2025-08-14 20:05:33 -0400 (Thu, 14 Aug 2025) EndedAt: 2025-08-14 20:05:48 -0400 (Thu, 14 Aug 2025) EllapsedTime: 15.9 seconds RetCode: 0 Status: OK PackageFile: lumi_2.60.0.tar.gz PackageFileSize: 8.033 MiB