Package: lumi Version: 2.60.0 Command: rm -rf lumi.buildbin-libdir && mkdir lumi.buildbin-libdir && E:\biocbuild\bbs-3.21-bioc\R\bin\R.exe CMD INSTALL --build --library=lumi.buildbin-libdir lumi_2.60.0.tar.gz StartedAt: 2025-08-15 09:36:39 -0400 (Fri, 15 Aug 2025) EndedAt: 2025-08-15 09:38:25 -0400 (Fri, 15 Aug 2025) EllapsedTime: 105.4 seconds RetCode: 0 Status: OK PackageFile: lumi_2.60.0.zip PackageFileSize: 4.733 MiB