Package: lumi Version: 2.60.0 Command: /home/biocbuild/bbs-3.21-bioc/R/bin/R CMD INSTALL lumi StartedAt: 2025-10-15 15:59:41 -0400 (Wed, 15 Oct 2025) EndedAt: 2025-10-15 16:00:35 -0400 (Wed, 15 Oct 2025) EllapsedTime: 53.8 seconds RetCode: 0 Status: OK