Package: lumi Version: 2.60.0 Command: /home/biocbuild/bbs-3.21-bioc/R/bin/R CMD check --install=check:lumi.install-out.txt --library=/home/biocbuild/bbs-3.21-bioc/R/site-library --timings lumi_2.60.0.tar.gz StartedAt: 2025-10-16 00:36:45 -0400 (Thu, 16 Oct 2025) EndedAt: 2025-10-16 00:43:35 -0400 (Thu, 16 Oct 2025) EllapsedTime: 409.8 seconds RetCode: 0 Status: WARNINGS CheckDir: lumi.Rcheck Warnings: 3