Package: lumi Version: 2.60.0 Command: /Library/Frameworks/R.framework/Resources/bin/R CMD check --install=check:lumi.install-out.txt --library=/Library/Frameworks/R.framework/Resources/library --no-vignettes --timings lumi_2.60.0.tar.gz StartedAt: 2025-04-21 21:36:00 -0400 (Mon, 21 Apr 2025) EndedAt: 2025-04-21 21:44:07 -0400 (Mon, 21 Apr 2025) EllapsedTime: 487.7 seconds RetCode: 0 Status: WARNINGS CheckDir: lumi.Rcheck Warnings: 3