Package: lpsymphony Version: 1.36.0 Command: /home/biocbuild/bbs-3.21-bioc/R/bin/R CMD INSTALL lpsymphony StartedAt: 2025-10-15 15:01:37 -0400 (Wed, 15 Oct 2025) EndedAt: 2025-10-15 15:09:08 -0400 (Wed, 15 Oct 2025) EllapsedTime: 450.3 seconds RetCode: 0 Status: OK