Package: lpsymphony Version: 1.36.0 Command: rm -rf lpsymphony.buildbin-libdir && mkdir lpsymphony.buildbin-libdir && /Users/biocbuild/BBS/utils/build-universal.sh lpsymphony_1.36.0.tar.gz /Library/Frameworks/R.framework/Resources/bin/R lpsymphony.buildbin-libdir StartedAt: 2025-04-22 00:52:32 -0400 (Tue, 22 Apr 2025) EndedAt: 2025-04-22 01:08:16 -0400 (Tue, 22 Apr 2025) EllapsedTime: 943.0 seconds RetCode: 0 Status: OK PackageFile: lpsymphony_1.36.0.tgz PackageFileSize: 2.111 MiB