Package: lpNet Version: 2.40.0 Command: E:\biocbuild\bbs-3.21-bioc\R\bin\R.exe CMD check --no-multiarch --install=check:lpNet.install-out.txt --library=E:\biocbuild\bbs-3.21-bioc\R\library --no-vignettes --timings lpNet_2.40.0.tar.gz StartedAt: 2025-08-15 03:39:21 -0400 (Fri, 15 Aug 2025) EndedAt: 2025-08-15 03:40:28 -0400 (Fri, 15 Aug 2025) EllapsedTime: 66.5 seconds RetCode: 0 Status: WARNINGS CheckDir: lpNet.Rcheck Warnings: 1