Package: lpNet Version: 2.40.0 Command: rm -rf lpNet.buildbin-libdir && mkdir lpNet.buildbin-libdir && E:\biocbuild\bbs-3.21-bioc\R\bin\R.exe CMD INSTALL --build --library=lpNet.buildbin-libdir lpNet_2.40.0.tar.gz StartedAt: 2025-08-15 09:36:29 -0400 (Fri, 15 Aug 2025) EndedAt: 2025-08-15 09:36:45 -0400 (Fri, 15 Aug 2025) EllapsedTime: 16.0 seconds RetCode: 0 Status: OK PackageFile: lpNet_2.40.0.zip PackageFileSize: 319.2 KiB