Package: lpNet Version: 2.40.0 Command: /home/biocbuild/R/R/bin/R CMD build --keep-empty-dirs --no-resave-data lpNet StartedAt: 2025-09-30 02:44:09 -0000 (Tue, 30 Sep 2025) EndedAt: 2025-09-30 02:44:52 -0000 (Tue, 30 Sep 2025) EllapsedTime: 43.0 seconds RetCode: 0 Status: OK PackageFile: lpNet_2.40.0.tar.gz PackageFileSize: 298.6 KiB