Package: lmdme Version: 1.50.0 Command: E:\biocbuild\bbs-3.21-bioc\R\bin\R.exe CMD INSTALL lmdme StartedAt: 2025-08-14 15:33:05 -0400 (Thu, 14 Aug 2025) EndedAt: 2025-08-14 15:33:28 -0400 (Thu, 14 Aug 2025) EllapsedTime: 22.3 seconds RetCode: 0 Status: OK