Package: lipidr Version: 2.22.1 Command: E:\biocbuild\bbs-3.21-bioc\R\bin\R.exe CMD check --no-multiarch --install=check:lipidr.install-out.txt --library=E:\biocbuild\bbs-3.21-bioc\R\library --no-vignettes --timings lipidr_2.22.1.tar.gz StartedAt: 2025-08-15 03:37:13 -0400 (Fri, 15 Aug 2025) EndedAt: 2025-08-15 03:45:41 -0400 (Fri, 15 Aug 2025) EllapsedTime: 508.4 seconds RetCode: 0 Status: OK CheckDir: lipidr.Rcheck Warnings: 0