Package: lipidr Version: 2.22.1 Command: rm -rf lipidr.buildbin-libdir && mkdir lipidr.buildbin-libdir && E:\biocbuild\bbs-3.21-bioc\R\bin\R.exe CMD INSTALL --build --library=lipidr.buildbin-libdir lipidr_2.22.1.tar.gz StartedAt: 2025-08-15 09:35:55 -0400 (Fri, 15 Aug 2025) EndedAt: 2025-08-15 09:36:47 -0400 (Fri, 15 Aug 2025) EllapsedTime: 51.9 seconds RetCode: 0 Status: OK PackageFile: lipidr_2.22.1.zip PackageFileSize: 2.565 MiB