Package: lipidr Version: 2.22.1 Command: /home/biocbuild/bbs-3.21-bioc/R/bin/R CMD INSTALL lipidr StartedAt: 2025-10-15 15:37:43 -0400 (Wed, 15 Oct 2025) EndedAt: 2025-10-15 15:38:13 -0400 (Wed, 15 Oct 2025) EllapsedTime: 30.0 seconds RetCode: 0 Status: OK