Package: lipidr Version: 2.22.1 Command: /home/biocbuild/bbs-3.21-bioc/R/bin/R CMD check --install=check:lipidr.install-out.txt --library=/home/biocbuild/bbs-3.21-bioc/R/site-library --timings lipidr_2.22.1.tar.gz StartedAt: 2025-10-16 00:34:34 -0400 (Thu, 16 Oct 2025) EndedAt: 2025-10-16 00:39:38 -0400 (Thu, 16 Oct 2025) EllapsedTime: 304.7 seconds RetCode: 0 Status: OK CheckDir: lipidr.Rcheck Warnings: 0