Package: lipidr Version: 2.22.1 Command: /home/biocbuild/bbs-3.21-bioc/R/bin/R CMD build --keep-empty-dirs --no-resave-data lipidr StartedAt: 2025-10-15 18:13:59 -0400 (Wed, 15 Oct 2025) EndedAt: 2025-10-15 18:14:53 -0400 (Wed, 15 Oct 2025) EllapsedTime: 54.1 seconds RetCode: 0 Status: OK PackageFile: lipidr_2.22.1.tar.gz PackageFileSize: 3.344 MiB