Package: lipidr Version: 2.22.1 Command: /Library/Frameworks/R.framework/Resources/bin/R CMD check --install=check:lipidr.install-out.txt --library=/Library/Frameworks/R.framework/Resources/library --no-vignettes --timings lipidr_2.22.1.tar.gz StartedAt: 2025-10-14 05:49:23 -0400 (Tue, 14 Oct 2025) EndedAt: 2025-10-14 05:59:31 -0400 (Tue, 14 Oct 2025) EllapsedTime: 607.6 seconds RetCode: 0 Status: OK CheckDir: lipidr.Rcheck Warnings: 0