Package: lipidr Version: 2.22.1 Command: /Library/Frameworks/R.framework/Resources/bin/R CMD build --keep-empty-dirs --no-resave-data lipidr StartedAt: 2025-10-13 20:06:45 -0400 (Mon, 13 Oct 2025) EndedAt: 2025-10-13 20:08:42 -0400 (Mon, 13 Oct 2025) EllapsedTime: 117.6 seconds RetCode: 0 Status: OK PackageFile: lipidr_2.22.1.tar.gz PackageFileSize: 3.391 MiB