Package: lipidr Version: 2.22.1 Command: /home/biocbuild/R/R/bin/R CMD check --install=check:lipidr.install-out.txt --library=/home/biocbuild/R/R/site-library --no-vignettes --timings lipidr_2.22.1.tar.gz StartedAt: 2025-10-14 10:40:48 -0000 (Tue, 14 Oct 2025) EndedAt: 2025-10-14 10:47:01 -0000 (Tue, 14 Oct 2025) EllapsedTime: 373.3 seconds RetCode: 1 Status: ERROR CheckDir: lipidr.Rcheck Warnings: NA