Package: lipidr Version: 2.22.0 Command: /Library/Frameworks/R.framework/Resources/bin/R CMD build --keep-empty-dirs --no-resave-data lipidr StartedAt: 2025-04-21 16:47:23 -0400 (Mon, 21 Apr 2025) EndedAt: 2025-04-21 16:47:47 -0400 (Mon, 21 Apr 2025) EllapsedTime: 24.4 seconds RetCode: 0 Status: OK PackageFile: lipidr_2.22.0.tar.gz PackageFileSize: 3.392 MiB