Package: lipidr Version: 2.22.0 Command: rm -rf lipidr.buildbin-libdir && mkdir lipidr.buildbin-libdir && /Users/biocbuild/BBS/utils/build-universal.sh lipidr_2.22.0.tar.gz /Library/Frameworks/R.framework/Resources/bin/R lipidr.buildbin-libdir StartedAt: 2025-04-21 22:40:15 -0400 (Mon, 21 Apr 2025) EndedAt: 2025-04-21 22:40:29 -0400 (Mon, 21 Apr 2025) EllapsedTime: 13.3 seconds RetCode: 0 Status: OK PackageFile: lipidr_2.22.0.tgz PackageFileSize: 3.541 MiB