Package: lipidr Version: 2.22.1 Command: /Library/Frameworks/R.framework/Resources/bin/R CMD INSTALL lipidr StartedAt: 2025-10-13 17:11:53 -0400 (Mon, 13 Oct 2025) EndedAt: 2025-10-13 17:12:28 -0400 (Mon, 13 Oct 2025) EllapsedTime: 34.7 seconds RetCode: 0 Status: OK