Package: lipidr Version: 2.22.1 Command: /Library/Frameworks/R.framework/Resources/bin/R CMD check --install=check:lipidr.install-out.txt --library=/Library/Frameworks/R.framework/Resources/library --no-vignettes --timings lipidr_2.22.1.tar.gz StartedAt: 2025-10-15 02:00:03 -0400 (Wed, 15 Oct 2025) EndedAt: 2025-10-15 02:05:23 -0400 (Wed, 15 Oct 2025) EllapsedTime: 320.4 seconds RetCode: 0 Status: OK CheckDir: lipidr.Rcheck Warnings: 0