Package: lipidr Version: 2.22.1 Maintainer: Ahmed Mohamed MaintainerEmail: mohamed at kuicr.kyoto-u.ac.jp git_url: https://git.bioconductor.org/packages/lipidr git_branch: RELEASE_3_21 git_last_commit: 2125660 git_last_commit_date: 2025-05-08 12:28:22 -0400 (Thu, 08 May 2025)