Package: limpca Version: 1.4.0 Command: E:\biocbuild\bbs-3.21-bioc\R\bin\R.exe CMD INSTALL limpca StartedAt: 2025-08-14 16:07:50 -0400 (Thu, 14 Aug 2025) EndedAt: 2025-08-14 16:08:22 -0400 (Thu, 14 Aug 2025) EllapsedTime: 32.0 seconds RetCode: 0 Status: OK