Package: limpca Version: 1.4.0 Command: E:\biocbuild\bbs-3.21-bioc\R\bin\R.exe CMD check --no-multiarch --install=check:limpca.install-out.txt --library=E:\biocbuild\bbs-3.21-bioc\R\library --no-vignettes --timings limpca_1.4.0.tar.gz StartedAt: 2025-08-15 03:35:39 -0400 (Fri, 15 Aug 2025) EndedAt: 2025-08-15 03:40:54 -0400 (Fri, 15 Aug 2025) EllapsedTime: 315.7 seconds RetCode: 0 Status: OK CheckDir: limpca.Rcheck Warnings: 0