Package: limpca Version: 1.4.0 Command: chmod a+r limpca -R && E:\biocbuild\bbs-3.21-bioc\R\bin\R.exe CMD build --keep-empty-dirs --no-resave-data limpca StartedAt: 2025-08-14 20:03:01 -0400 (Thu, 14 Aug 2025) EndedAt: 2025-08-14 20:07:10 -0400 (Thu, 14 Aug 2025) EllapsedTime: 249.3 seconds RetCode: 0 Status: OK PackageFile: limpca_1.4.0.tar.gz PackageFileSize: 2.304 MiB