Package: limpca Version: 1.4.0 Command: /Library/Frameworks/R.framework/Resources/bin/R CMD build --keep-empty-dirs --no-resave-data limpca StartedAt: 2025-04-21 16:46:59 -0400 (Mon, 21 Apr 2025) EndedAt: 2025-04-21 16:47:52 -0400 (Mon, 21 Apr 2025) EllapsedTime: 53.7 seconds RetCode: 0 Status: OK PackageFile: limpca_1.4.0.tar.gz PackageFileSize: 5.167 MiB