Package: limma Version: 3.64.3 Command: /Library/Frameworks/R.framework/Resources/bin/R CMD check --install=check:limma.install-out.txt --library=/Library/Frameworks/R.framework/Resources/library --no-vignettes --timings limma_3.64.3.tar.gz StartedAt: 2025-10-14 05:47:36 -0400 (Tue, 14 Oct 2025) EndedAt: 2025-10-14 05:51:11 -0400 (Tue, 14 Oct 2025) EllapsedTime: 215.7 seconds RetCode: 0 Status: OK CheckDir: limma.Rcheck Warnings: 0