Package: limma Version: 3.64.3 Command: /home/biocbuild/R/R/bin/R CMD check --install=check:limma.install-out.txt --library=/home/biocbuild/R/R/site-library --no-vignettes --timings limma_3.64.3.tar.gz StartedAt: 2025-10-14 10:39:22 -0000 (Tue, 14 Oct 2025) EndedAt: 2025-10-14 10:41:11 -0000 (Tue, 14 Oct 2025) EllapsedTime: 109.1 seconds RetCode: 0 Status: OK CheckDir: limma.Rcheck Warnings: 0